BEGIN:VCALENDAR
VERSION:2.0
PRODID:-//NewLife Christian Church - ECPv6.15.15//NONSGML v1.0//EN
CALSCALE:GREGORIAN
METHOD:PUBLISH
X-ORIGINAL-URL:https://www.newlifecc.ca
X-WR-CALDESC:Events for NewLife Christian Church
REFRESH-INTERVAL;VALUE=DURATION:PT1H
X-Robots-Tag:noindex
X-PUBLISHED-TTL:PT1H
BEGIN:VTIMEZONE
TZID:America/Toronto
BEGIN:DAYLIGHT
TZOFFSETFROM:-0500
TZOFFSETTO:-0400
TZNAME:EDT
DTSTART:20250309T070000
END:DAYLIGHT
BEGIN:STANDARD
TZOFFSETFROM:-0400
TZOFFSETTO:-0500
TZNAME:EST
DTSTART:20251102T060000
END:STANDARD
BEGIN:DAYLIGHT
TZOFFSETFROM:-0500
TZOFFSETTO:-0400
TZNAME:EDT
DTSTART:20260308T070000
END:DAYLIGHT
BEGIN:STANDARD
TZOFFSETFROM:-0400
TZOFFSETTO:-0500
TZNAME:EST
DTSTART:20261101T060000
END:STANDARD
BEGIN:DAYLIGHT
TZOFFSETFROM:-0500
TZOFFSETTO:-0400
TZNAME:EDT
DTSTART:20270314T070000
END:DAYLIGHT
BEGIN:STANDARD
TZOFFSETFROM:-0400
TZOFFSETTO:-0500
TZNAME:EST
DTSTART:20271107T060000
END:STANDARD
END:VTIMEZONE
BEGIN:VEVENT
DTSTART;TZID=America/Toronto:20260613T093000
DTEND;TZID=America/Toronto:20260613T120000
DTSTAMP:20260421T161058
CREATED:20260421T144320Z
LAST-MODIFIED:20260421T144519Z
UID:13228-1781343000-1781352000@www.newlifecc.ca
SUMMARY:Men's breakfast
DESCRIPTION:Join us for NewLife Men’s Annual Breakfast. It’s a chance for men to come together\,\nenjoy a great breakfast\, hear inspiring guest speakers\, and be strengthened through real conversation and authentic community. \nMen of all ages\, 13 years and over\, are welcome. \nhttps://newlifechurchvaughan.churchcenter.com/registrations/events/3601142
URL:https://www.newlifecc.ca/event/mens-breakfast-2/
LOCATION:NewLife Church\, 8111 Weston Road\, Vaughan\, Ontario\, L4L 9T6\, Canada
CATEGORIES:Men
ATTACH;FMTTYPE=image/jpeg:https://www.newlifecc.ca/wp-content/uploads/2026/04/mens-breakfast.jpg
END:VEVENT
END:VCALENDAR