BEGIN:VCALENDAR
VERSION:2.0
PRODID:-//NewLife Christian Church - ECPv6.15.15//NONSGML v1.0//EN
CALSCALE:GREGORIAN
METHOD:PUBLISH
X-ORIGINAL-URL:https://www.newlifecc.ca
X-WR-CALDESC:Events for NewLife Christian Church
REFRESH-INTERVAL;VALUE=DURATION:PT1H
X-Robots-Tag:noindex
X-PUBLISHED-TTL:PT1H
BEGIN:VTIMEZONE
TZID:America/Toronto
BEGIN:DAYLIGHT
TZOFFSETFROM:-0500
TZOFFSETTO:-0400
TZNAME:EDT
DTSTART:20250309T070000
END:DAYLIGHT
BEGIN:STANDARD
TZOFFSETFROM:-0400
TZOFFSETTO:-0500
TZNAME:EST
DTSTART:20251102T060000
END:STANDARD
BEGIN:DAYLIGHT
TZOFFSETFROM:-0500
TZOFFSETTO:-0400
TZNAME:EDT
DTSTART:20260308T070000
END:DAYLIGHT
BEGIN:STANDARD
TZOFFSETFROM:-0400
TZOFFSETTO:-0500
TZNAME:EST
DTSTART:20261101T060000
END:STANDARD
BEGIN:DAYLIGHT
TZOFFSETFROM:-0500
TZOFFSETTO:-0400
TZNAME:EDT
DTSTART:20270314T070000
END:DAYLIGHT
BEGIN:STANDARD
TZOFFSETFROM:-0400
TZOFFSETTO:-0500
TZNAME:EST
DTSTART:20271107T060000
END:STANDARD
END:VTIMEZONE
BEGIN:VEVENT
DTSTART;TZID=America/Toronto:20260712T093000
DTEND;TZID=America/Toronto:20260712T110000
DTSTAMP:20260422T181334
CREATED:20250826T165838Z
LAST-MODIFIED:20251209T152243Z
UID:11045-1783848600-1783854000@www.newlifecc.ca
SUMMARY:Sunday Morning Worship Service at 9:30am
DESCRIPTION:We would love for you to join us at our Sunday Morning Worship Service. Join at either the 9:30am service or the 11:30am service.
URL:https://www.newlifecc.ca/event/sunday-morning-worship-service-at-930am/2026-07-12/
LOCATION:NewLife Church\, 8111 Weston Road\, Vaughan\, Ontario\, L4L 9T6\, Canada
CATEGORIES:NewLife
ATTACH;FMTTYPE=image/jpeg:https://www.newlifecc.ca/wp-content/uploads/2025/08/Sunday-Morning-Worship-at-9-30.jpg
END:VEVENT
BEGIN:VEVENT
DTSTART;TZID=America/Toronto:20260712T113000
DTEND;TZID=America/Toronto:20260712T130000
DTSTAMP:20260422T181334
CREATED:20250826T170141Z
LAST-MODIFIED:20251209T152707Z
UID:10691-1783855800-1783861200@www.newlifecc.ca
SUMMARY:Sunday Morning Worship Service at 11:30am
DESCRIPTION:We would love for you to join us at our Sunday Morning Worship Service. Join at either the 9:30am service or the 11:30am service.
URL:https://www.newlifecc.ca/event/sunday-morning-worship-service-at-1130am/2026-07-12/
LOCATION:NewLife Church\, 8111 Weston Road\, Vaughan\, Ontario\, L4L 9T6\, Canada
CATEGORIES:NewLife
ATTACH;FMTTYPE=image/jpeg:https://www.newlifecc.ca/wp-content/uploads/2025/08/Sunday-Morning-Worship-at-11-30.jpg
END:VEVENT
BEGIN:VEVENT
DTSTART;TZID=America/Toronto:20260719T093000
DTEND;TZID=America/Toronto:20260719T110000
DTSTAMP:20260422T181334
CREATED:20250826T165838Z
LAST-MODIFIED:20251209T152243Z
UID:11047-1784453400-1784458800@www.newlifecc.ca
SUMMARY:Sunday Morning Worship Service at 9:30am
DESCRIPTION:We would love for you to join us at our Sunday Morning Worship Service. Join at either the 9:30am service or the 11:30am service.
URL:https://www.newlifecc.ca/event/sunday-morning-worship-service-at-930am/2026-07-19/
LOCATION:NewLife Church\, 8111 Weston Road\, Vaughan\, Ontario\, L4L 9T6\, Canada
CATEGORIES:NewLife
ATTACH;FMTTYPE=image/jpeg:https://www.newlifecc.ca/wp-content/uploads/2025/08/Sunday-Morning-Worship-at-9-30.jpg
END:VEVENT
BEGIN:VEVENT
DTSTART;TZID=America/Toronto:20260719T113000
DTEND;TZID=America/Toronto:20260719T130000
DTSTAMP:20260422T181334
CREATED:20250826T170141Z
LAST-MODIFIED:20251209T152707Z
UID:10692-1784460600-1784466000@www.newlifecc.ca
SUMMARY:Sunday Morning Worship Service at 11:30am
DESCRIPTION:We would love for you to join us at our Sunday Morning Worship Service. Join at either the 9:30am service or the 11:30am service.
URL:https://www.newlifecc.ca/event/sunday-morning-worship-service-at-1130am/2026-07-19/
LOCATION:NewLife Church\, 8111 Weston Road\, Vaughan\, Ontario\, L4L 9T6\, Canada
CATEGORIES:NewLife
ATTACH;FMTTYPE=image/jpeg:https://www.newlifecc.ca/wp-content/uploads/2025/08/Sunday-Morning-Worship-at-11-30.jpg
END:VEVENT
BEGIN:VEVENT
DTSTART;TZID=America/Toronto:20260726T093000
DTEND;TZID=America/Toronto:20260726T110000
DTSTAMP:20260422T181334
CREATED:20250826T165838Z
LAST-MODIFIED:20251209T152244Z
UID:11049-1785058200-1785063600@www.newlifecc.ca
SUMMARY:Sunday Morning Worship Service at 9:30am
DESCRIPTION:We would love for you to join us at our Sunday Morning Worship Service. Join at either the 9:30am service or the 11:30am service.
URL:https://www.newlifecc.ca/event/sunday-morning-worship-service-at-930am/2026-07-26/
LOCATION:NewLife Church\, 8111 Weston Road\, Vaughan\, Ontario\, L4L 9T6\, Canada
CATEGORIES:NewLife
ATTACH;FMTTYPE=image/jpeg:https://www.newlifecc.ca/wp-content/uploads/2025/08/Sunday-Morning-Worship-at-9-30.jpg
END:VEVENT
BEGIN:VEVENT
DTSTART;TZID=America/Toronto:20260726T113000
DTEND;TZID=America/Toronto:20260726T130000
DTSTAMP:20260422T181334
CREATED:20250826T170141Z
LAST-MODIFIED:20251209T152708Z
UID:10693-1785065400-1785070800@www.newlifecc.ca
SUMMARY:Sunday Morning Worship Service at 11:30am
DESCRIPTION:We would love for you to join us at our Sunday Morning Worship Service. Join at either the 9:30am service or the 11:30am service.
URL:https://www.newlifecc.ca/event/sunday-morning-worship-service-at-1130am/2026-07-26/
LOCATION:NewLife Church\, 8111 Weston Road\, Vaughan\, Ontario\, L4L 9T6\, Canada
CATEGORIES:NewLife
ATTACH;FMTTYPE=image/jpeg:https://www.newlifecc.ca/wp-content/uploads/2025/08/Sunday-Morning-Worship-at-11-30.jpg
END:VEVENT
BEGIN:VEVENT
DTSTART;TZID=America/Toronto:20260802T093000
DTEND;TZID=America/Toronto:20260802T110000
DTSTAMP:20260422T181334
CREATED:20250826T165838Z
LAST-MODIFIED:20251209T152244Z
UID:11051-1785663000-1785668400@www.newlifecc.ca
SUMMARY:Sunday Morning Worship Service at 9:30am
DESCRIPTION:We would love for you to join us at our Sunday Morning Worship Service. Join at either the 9:30am service or the 11:30am service.
URL:https://www.newlifecc.ca/event/sunday-morning-worship-service-at-930am/2026-08-02/
LOCATION:NewLife Church\, 8111 Weston Road\, Vaughan\, Ontario\, L4L 9T6\, Canada
CATEGORIES:NewLife
ATTACH;FMTTYPE=image/jpeg:https://www.newlifecc.ca/wp-content/uploads/2025/08/Sunday-Morning-Worship-at-9-30.jpg
END:VEVENT
BEGIN:VEVENT
DTSTART;TZID=America/Toronto:20260802T113000
DTEND;TZID=America/Toronto:20260802T130000
DTSTAMP:20260422T181334
CREATED:20250826T170141Z
LAST-MODIFIED:20251209T152708Z
UID:10694-1785670200-1785675600@www.newlifecc.ca
SUMMARY:Sunday Morning Worship Service at 11:30am
DESCRIPTION:We would love for you to join us at our Sunday Morning Worship Service. Join at either the 9:30am service or the 11:30am service.
URL:https://www.newlifecc.ca/event/sunday-morning-worship-service-at-1130am/2026-08-02/
LOCATION:NewLife Church\, 8111 Weston Road\, Vaughan\, Ontario\, L4L 9T6\, Canada
CATEGORIES:NewLife
ATTACH;FMTTYPE=image/jpeg:https://www.newlifecc.ca/wp-content/uploads/2025/08/Sunday-Morning-Worship-at-11-30.jpg
END:VEVENT
BEGIN:VEVENT
DTSTART;TZID=America/Toronto:20260809T093000
DTEND;TZID=America/Toronto:20260809T110000
DTSTAMP:20260422T181334
CREATED:20250826T165838Z
LAST-MODIFIED:20251209T152244Z
UID:11053-1786267800-1786273200@www.newlifecc.ca
SUMMARY:Sunday Morning Worship Service at 9:30am
DESCRIPTION:We would love for you to join us at our Sunday Morning Worship Service. Join at either the 9:30am service or the 11:30am service.
URL:https://www.newlifecc.ca/event/sunday-morning-worship-service-at-930am/2026-08-09/
LOCATION:NewLife Church\, 8111 Weston Road\, Vaughan\, Ontario\, L4L 9T6\, Canada
CATEGORIES:NewLife
ATTACH;FMTTYPE=image/jpeg:https://www.newlifecc.ca/wp-content/uploads/2025/08/Sunday-Morning-Worship-at-9-30.jpg
END:VEVENT
BEGIN:VEVENT
DTSTART;TZID=America/Toronto:20260809T113000
DTEND;TZID=America/Toronto:20260809T130000
DTSTAMP:20260422T181334
CREATED:20250826T170141Z
LAST-MODIFIED:20251209T152708Z
UID:10695-1786275000-1786280400@www.newlifecc.ca
SUMMARY:Sunday Morning Worship Service at 11:30am
DESCRIPTION:We would love for you to join us at our Sunday Morning Worship Service. Join at either the 9:30am service or the 11:30am service.
URL:https://www.newlifecc.ca/event/sunday-morning-worship-service-at-1130am/2026-08-09/
LOCATION:NewLife Church\, 8111 Weston Road\, Vaughan\, Ontario\, L4L 9T6\, Canada
CATEGORIES:NewLife
ATTACH;FMTTYPE=image/jpeg:https://www.newlifecc.ca/wp-content/uploads/2025/08/Sunday-Morning-Worship-at-11-30.jpg
END:VEVENT
BEGIN:VEVENT
DTSTART;TZID=America/Toronto:20260816T093000
DTEND;TZID=America/Toronto:20260816T110000
DTSTAMP:20260422T181334
CREATED:20250826T165838Z
LAST-MODIFIED:20251209T152245Z
UID:11055-1786872600-1786878000@www.newlifecc.ca
SUMMARY:Sunday Morning Worship Service at 9:30am
DESCRIPTION:We would love for you to join us at our Sunday Morning Worship Service. Join at either the 9:30am service or the 11:30am service.
URL:https://www.newlifecc.ca/event/sunday-morning-worship-service-at-930am/2026-08-16/
LOCATION:NewLife Church\, 8111 Weston Road\, Vaughan\, Ontario\, L4L 9T6\, Canada
CATEGORIES:NewLife
ATTACH;FMTTYPE=image/jpeg:https://www.newlifecc.ca/wp-content/uploads/2025/08/Sunday-Morning-Worship-at-9-30.jpg
END:VEVENT
BEGIN:VEVENT
DTSTART;TZID=America/Toronto:20260816T113000
DTEND;TZID=America/Toronto:20260816T130000
DTSTAMP:20260422T181334
CREATED:20250826T170141Z
LAST-MODIFIED:20251209T152709Z
UID:10696-1786879800-1786885200@www.newlifecc.ca
SUMMARY:Sunday Morning Worship Service at 11:30am
DESCRIPTION:We would love for you to join us at our Sunday Morning Worship Service. Join at either the 9:30am service or the 11:30am service.
URL:https://www.newlifecc.ca/event/sunday-morning-worship-service-at-1130am/2026-08-16/
LOCATION:NewLife Church\, 8111 Weston Road\, Vaughan\, Ontario\, L4L 9T6\, Canada
CATEGORIES:NewLife
ATTACH;FMTTYPE=image/jpeg:https://www.newlifecc.ca/wp-content/uploads/2025/08/Sunday-Morning-Worship-at-11-30.jpg
END:VEVENT
BEGIN:VEVENT
DTSTART;TZID=America/Toronto:20260823T093000
DTEND;TZID=America/Toronto:20260823T110000
DTSTAMP:20260422T181334
CREATED:20250826T165838Z
LAST-MODIFIED:20251209T152245Z
UID:11057-1787477400-1787482800@www.newlifecc.ca
SUMMARY:Sunday Morning Worship Service at 9:30am
DESCRIPTION:We would love for you to join us at our Sunday Morning Worship Service. Join at either the 9:30am service or the 11:30am service.
URL:https://www.newlifecc.ca/event/sunday-morning-worship-service-at-930am/2026-08-23/
LOCATION:NewLife Church\, 8111 Weston Road\, Vaughan\, Ontario\, L4L 9T6\, Canada
CATEGORIES:NewLife
ATTACH;FMTTYPE=image/jpeg:https://www.newlifecc.ca/wp-content/uploads/2025/08/Sunday-Morning-Worship-at-9-30.jpg
END:VEVENT
BEGIN:VEVENT
DTSTART;TZID=America/Toronto:20260823T113000
DTEND;TZID=America/Toronto:20260823T130000
DTSTAMP:20260422T181334
CREATED:20250826T170141Z
LAST-MODIFIED:20251209T152709Z
UID:10697-1787484600-1787490000@www.newlifecc.ca
SUMMARY:Sunday Morning Worship Service at 11:30am
DESCRIPTION:We would love for you to join us at our Sunday Morning Worship Service. Join at either the 9:30am service or the 11:30am service.
URL:https://www.newlifecc.ca/event/sunday-morning-worship-service-at-1130am/2026-08-23/
LOCATION:NewLife Church\, 8111 Weston Road\, Vaughan\, Ontario\, L4L 9T6\, Canada
CATEGORIES:NewLife
ATTACH;FMTTYPE=image/jpeg:https://www.newlifecc.ca/wp-content/uploads/2025/08/Sunday-Morning-Worship-at-11-30.jpg
END:VEVENT
BEGIN:VEVENT
DTSTART;TZID=America/Toronto:20260830T093000
DTEND;TZID=America/Toronto:20260830T110000
DTSTAMP:20260422T181334
CREATED:20250826T165838Z
LAST-MODIFIED:20251209T152248Z
UID:11059-1788082200-1788087600@www.newlifecc.ca
SUMMARY:Sunday Morning Worship Service at 9:30am
DESCRIPTION:We would love for you to join us at our Sunday Morning Worship Service. Join at either the 9:30am service or the 11:30am service.
URL:https://www.newlifecc.ca/event/sunday-morning-worship-service-at-930am/2026-08-30/
LOCATION:NewLife Church\, 8111 Weston Road\, Vaughan\, Ontario\, L4L 9T6\, Canada
CATEGORIES:NewLife
ATTACH;FMTTYPE=image/jpeg:https://www.newlifecc.ca/wp-content/uploads/2025/08/Sunday-Morning-Worship-at-9-30.jpg
END:VEVENT
BEGIN:VEVENT
DTSTART;TZID=America/Toronto:20260830T113000
DTEND;TZID=America/Toronto:20260830T130000
DTSTAMP:20260422T181334
CREATED:20250826T170141Z
LAST-MODIFIED:20251209T152712Z
UID:10698-1788089400-1788094800@www.newlifecc.ca
SUMMARY:Sunday Morning Worship Service at 11:30am
DESCRIPTION:We would love for you to join us at our Sunday Morning Worship Service. Join at either the 9:30am service or the 11:30am service.
URL:https://www.newlifecc.ca/event/sunday-morning-worship-service-at-1130am/2026-08-30/
LOCATION:NewLife Church\, 8111 Weston Road\, Vaughan\, Ontario\, L4L 9T6\, Canada
CATEGORIES:NewLife
ATTACH;FMTTYPE=image/jpeg:https://www.newlifecc.ca/wp-content/uploads/2025/08/Sunday-Morning-Worship-at-11-30.jpg
END:VEVENT
BEGIN:VEVENT
DTSTART;TZID=America/Toronto:20260906T093000
DTEND;TZID=America/Toronto:20260906T110000
DTSTAMP:20260422T181334
CREATED:20250826T165838Z
LAST-MODIFIED:20251209T152248Z
UID:11061-1788687000-1788692400@www.newlifecc.ca
SUMMARY:Sunday Morning Worship Service at 9:30am
DESCRIPTION:We would love for you to join us at our Sunday Morning Worship Service. Join at either the 9:30am service or the 11:30am service.
URL:https://www.newlifecc.ca/event/sunday-morning-worship-service-at-930am/2026-09-06/
LOCATION:NewLife Church\, 8111 Weston Road\, Vaughan\, Ontario\, L4L 9T6\, Canada
CATEGORIES:NewLife
ATTACH;FMTTYPE=image/jpeg:https://www.newlifecc.ca/wp-content/uploads/2025/08/Sunday-Morning-Worship-at-9-30.jpg
END:VEVENT
BEGIN:VEVENT
DTSTART;TZID=America/Toronto:20260906T113000
DTEND;TZID=America/Toronto:20260906T130000
DTSTAMP:20260422T181334
CREATED:20250826T170141Z
LAST-MODIFIED:20251209T152712Z
UID:10699-1788694200-1788699600@www.newlifecc.ca
SUMMARY:Sunday Morning Worship Service at 11:30am
DESCRIPTION:We would love for you to join us at our Sunday Morning Worship Service. Join at either the 9:30am service or the 11:30am service.
URL:https://www.newlifecc.ca/event/sunday-morning-worship-service-at-1130am/2026-09-06/
LOCATION:NewLife Church\, 8111 Weston Road\, Vaughan\, Ontario\, L4L 9T6\, Canada
CATEGORIES:NewLife
ATTACH;FMTTYPE=image/jpeg:https://www.newlifecc.ca/wp-content/uploads/2025/08/Sunday-Morning-Worship-at-11-30.jpg
END:VEVENT
BEGIN:VEVENT
DTSTART;TZID=America/Toronto:20260913T093000
DTEND;TZID=America/Toronto:20260913T110000
DTSTAMP:20260422T181334
CREATED:20250826T165838Z
LAST-MODIFIED:20251209T152249Z
UID:11063-1789291800-1789297200@www.newlifecc.ca
SUMMARY:Sunday Morning Worship Service at 9:30am
DESCRIPTION:We would love for you to join us at our Sunday Morning Worship Service. Join at either the 9:30am service or the 11:30am service.
URL:https://www.newlifecc.ca/event/sunday-morning-worship-service-at-930am/2026-09-13/
LOCATION:NewLife Church\, 8111 Weston Road\, Vaughan\, Ontario\, L4L 9T6\, Canada
CATEGORIES:NewLife
ATTACH;FMTTYPE=image/jpeg:https://www.newlifecc.ca/wp-content/uploads/2025/08/Sunday-Morning-Worship-at-9-30.jpg
END:VEVENT
BEGIN:VEVENT
DTSTART;TZID=America/Toronto:20260913T113000
DTEND;TZID=America/Toronto:20260913T130000
DTSTAMP:20260422T181334
CREATED:20250826T170141Z
LAST-MODIFIED:20251209T152712Z
UID:10700-1789299000-1789304400@www.newlifecc.ca
SUMMARY:Sunday Morning Worship Service at 11:30am
DESCRIPTION:We would love for you to join us at our Sunday Morning Worship Service. Join at either the 9:30am service or the 11:30am service.
URL:https://www.newlifecc.ca/event/sunday-morning-worship-service-at-1130am/2026-09-13/
LOCATION:NewLife Church\, 8111 Weston Road\, Vaughan\, Ontario\, L4L 9T6\, Canada
CATEGORIES:NewLife
ATTACH;FMTTYPE=image/jpeg:https://www.newlifecc.ca/wp-content/uploads/2025/08/Sunday-Morning-Worship-at-11-30.jpg
END:VEVENT
BEGIN:VEVENT
DTSTART;TZID=America/Toronto:20260920T093000
DTEND;TZID=America/Toronto:20260920T110000
DTSTAMP:20260422T181334
CREATED:20250826T165838Z
LAST-MODIFIED:20251209T152249Z
UID:11065-1789896600-1789902000@www.newlifecc.ca
SUMMARY:Sunday Morning Worship Service at 9:30am
DESCRIPTION:We would love for you to join us at our Sunday Morning Worship Service. Join at either the 9:30am service or the 11:30am service.
URL:https://www.newlifecc.ca/event/sunday-morning-worship-service-at-930am/2026-09-20/
LOCATION:NewLife Church\, 8111 Weston Road\, Vaughan\, Ontario\, L4L 9T6\, Canada
CATEGORIES:NewLife
ATTACH;FMTTYPE=image/jpeg:https://www.newlifecc.ca/wp-content/uploads/2025/08/Sunday-Morning-Worship-at-9-30.jpg
END:VEVENT
BEGIN:VEVENT
DTSTART;TZID=America/Toronto:20260920T113000
DTEND;TZID=America/Toronto:20260920T130000
DTSTAMP:20260422T181334
CREATED:20250826T170141Z
LAST-MODIFIED:20251209T152713Z
UID:10701-1789903800-1789909200@www.newlifecc.ca
SUMMARY:Sunday Morning Worship Service at 11:30am
DESCRIPTION:We would love for you to join us at our Sunday Morning Worship Service. Join at either the 9:30am service or the 11:30am service.
URL:https://www.newlifecc.ca/event/sunday-morning-worship-service-at-1130am/2026-09-20/
LOCATION:NewLife Church\, 8111 Weston Road\, Vaughan\, Ontario\, L4L 9T6\, Canada
CATEGORIES:NewLife
ATTACH;FMTTYPE=image/jpeg:https://www.newlifecc.ca/wp-content/uploads/2025/08/Sunday-Morning-Worship-at-11-30.jpg
END:VEVENT
BEGIN:VEVENT
DTSTART;VALUE=DATE:20260925
DTEND;VALUE=DATE:20260926
DTSTAMP:20260422T181334
CREATED:20260422T203511Z
LAST-MODIFIED:20260422T203710Z
UID:13239-1790294400-1790380799@www.newlifecc.ca
SUMMARY:Youth Camp
DESCRIPTION:Youth Camp is for our YouthLife students in Grades 6–12 and is one of the highlights of the year! It’s a chance to step away from the normal routine and experience unforgettable days of fun\, friendship\, worship\, and powerful encounters with God. With exciting activities\, great community\, and life-changing moments\, this is a camp you won’t want to miss. \nThis year our theme is ‘Set Apart’ based on 1 Peter 2:9- But you are not like that\, for you are a chosen people. You are royal priests\, a holy nation\, God’s very own possession. As a result\, you can show others the goodness of God\, for He called you out of the darkness into His wonderful light. \nThe cost is $150 per person\, and every registration will receive a free camp t-shirt.  We never want finances to be the reason a young person misses out on youth camp. Instalment payments are available\, and if cost is a concern\, please speak with Pastor Fab- we would love to help.
URL:https://www.newlifecc.ca/event/youth-camp/2026-09-25/
LOCATION:NewLife Church\, 8111 Weston Road\, Vaughan\, Ontario\, L4L 9T6\, Canada
CATEGORIES:NewLife
ATTACH;FMTTYPE=image/jpeg:https://www.newlifecc.ca/wp-content/uploads/2026/04/Youth-Camp-2026.jpg
END:VEVENT
BEGIN:VEVENT
DTSTART;VALUE=DATE:20260926
DTEND;VALUE=DATE:20260927
DTSTAMP:20260422T181334
CREATED:20260422T203511Z
LAST-MODIFIED:20260422T203511Z
UID:13242-1790380800-1790467199@www.newlifecc.ca
SUMMARY:Youth Camp
DESCRIPTION:Youth Camp is for our YouthLife students in Grades 6–12 and is one of the highlights of the year! It’s a chance to step away from the normal routine and experience unforgettable days of fun\, friendship\, worship\, and powerful encounters with God. With exciting activities\, great community\, and life-changing moments\, this is a camp you won’t want to miss. \nThis year our theme is ‘Set Apart’ based on 1 Peter 2:9- But you are not like that\, for you are a chosen people. You are royal priests\, a holy nation\, God’s very own possession. As a result\, you can show others the goodness of God\, for He called you out of the darkness into His wonderful light. \nThe cost is $150 per person\, and every registration will receive a free camp t-shirt.  We never want finances to be the reason a young person misses out on youth camp. Instalment payments are available\, and if cost is a concern\, please speak with Pastor Fab- we would love to help.
URL:https://www.newlifecc.ca/event/youth-camp/2026-09-26/
LOCATION:NewLife Church\, 8111 Weston Road\, Vaughan\, Ontario\, L4L 9T6\, Canada
CATEGORIES:NewLife
ATTACH;FMTTYPE=image/jpeg:https://www.newlifecc.ca/wp-content/uploads/2026/04/Youth-Camp-2026.jpg
END:VEVENT
BEGIN:VEVENT
DTSTART;VALUE=DATE:20260927
DTEND;VALUE=DATE:20260928
DTSTAMP:20260422T181334
CREATED:20260422T203511Z
LAST-MODIFIED:20260422T203511Z
UID:13243-1790467200-1790553599@www.newlifecc.ca
SUMMARY:Youth Camp
DESCRIPTION:Youth Camp is for our YouthLife students in Grades 6–12 and is one of the highlights of the year! It’s a chance to step away from the normal routine and experience unforgettable days of fun\, friendship\, worship\, and powerful encounters with God. With exciting activities\, great community\, and life-changing moments\, this is a camp you won’t want to miss. \nThis year our theme is ‘Set Apart’ based on 1 Peter 2:9- But you are not like that\, for you are a chosen people. You are royal priests\, a holy nation\, God’s very own possession. As a result\, you can show others the goodness of God\, for He called you out of the darkness into His wonderful light. \nThe cost is $150 per person\, and every registration will receive a free camp t-shirt.  We never want finances to be the reason a young person misses out on youth camp. Instalment payments are available\, and if cost is a concern\, please speak with Pastor Fab- we would love to help.
URL:https://www.newlifecc.ca/event/youth-camp/2026-09-27/
LOCATION:NewLife Church\, 8111 Weston Road\, Vaughan\, Ontario\, L4L 9T6\, Canada
CATEGORIES:NewLife
ATTACH;FMTTYPE=image/jpeg:https://www.newlifecc.ca/wp-content/uploads/2026/04/Youth-Camp-2026.jpg
END:VEVENT
BEGIN:VEVENT
DTSTART;TZID=America/Toronto:20260927T093000
DTEND;TZID=America/Toronto:20260927T110000
DTSTAMP:20260422T181334
CREATED:20250826T165838Z
LAST-MODIFIED:20251209T152249Z
UID:11067-1790501400-1790506800@www.newlifecc.ca
SUMMARY:Sunday Morning Worship Service at 9:30am
DESCRIPTION:We would love for you to join us at our Sunday Morning Worship Service. Join at either the 9:30am service or the 11:30am service.
URL:https://www.newlifecc.ca/event/sunday-morning-worship-service-at-930am/2026-09-27/
LOCATION:NewLife Church\, 8111 Weston Road\, Vaughan\, Ontario\, L4L 9T6\, Canada
CATEGORIES:NewLife
ATTACH;FMTTYPE=image/jpeg:https://www.newlifecc.ca/wp-content/uploads/2025/08/Sunday-Morning-Worship-at-9-30.jpg
END:VEVENT
BEGIN:VEVENT
DTSTART;TZID=America/Toronto:20260927T113000
DTEND;TZID=America/Toronto:20260927T130000
DTSTAMP:20260422T181334
CREATED:20250826T170141Z
LAST-MODIFIED:20251209T152713Z
UID:10702-1790508600-1790514000@www.newlifecc.ca
SUMMARY:Sunday Morning Worship Service at 11:30am
DESCRIPTION:We would love for you to join us at our Sunday Morning Worship Service. Join at either the 9:30am service or the 11:30am service.
URL:https://www.newlifecc.ca/event/sunday-morning-worship-service-at-1130am/2026-09-27/
LOCATION:NewLife Church\, 8111 Weston Road\, Vaughan\, Ontario\, L4L 9T6\, Canada
CATEGORIES:NewLife
ATTACH;FMTTYPE=image/jpeg:https://www.newlifecc.ca/wp-content/uploads/2025/08/Sunday-Morning-Worship-at-11-30.jpg
END:VEVENT
BEGIN:VEVENT
DTSTART;TZID=America/Toronto:20261004T093000
DTEND;TZID=America/Toronto:20261004T110000
DTSTAMP:20260422T181334
CREATED:20250826T165838Z
LAST-MODIFIED:20251209T152250Z
UID:11069-1791106200-1791111600@www.newlifecc.ca
SUMMARY:Sunday Morning Worship Service at 9:30am
DESCRIPTION:We would love for you to join us at our Sunday Morning Worship Service. Join at either the 9:30am service or the 11:30am service.
URL:https://www.newlifecc.ca/event/sunday-morning-worship-service-at-930am/2026-10-04/
LOCATION:NewLife Church\, 8111 Weston Road\, Vaughan\, Ontario\, L4L 9T6\, Canada
CATEGORIES:NewLife
ATTACH;FMTTYPE=image/jpeg:https://www.newlifecc.ca/wp-content/uploads/2025/08/Sunday-Morning-Worship-at-9-30.jpg
END:VEVENT
BEGIN:VEVENT
DTSTART;TZID=America/Toronto:20261004T113000
DTEND;TZID=America/Toronto:20261004T130000
DTSTAMP:20260422T181334
CREATED:20250826T170141Z
LAST-MODIFIED:20251209T152714Z
UID:10703-1791113400-1791118800@www.newlifecc.ca
SUMMARY:Sunday Morning Worship Service at 11:30am
DESCRIPTION:We would love for you to join us at our Sunday Morning Worship Service. Join at either the 9:30am service or the 11:30am service.
URL:https://www.newlifecc.ca/event/sunday-morning-worship-service-at-1130am/2026-10-04/
LOCATION:NewLife Church\, 8111 Weston Road\, Vaughan\, Ontario\, L4L 9T6\, Canada
CATEGORIES:NewLife
ATTACH;FMTTYPE=image/jpeg:https://www.newlifecc.ca/wp-content/uploads/2025/08/Sunday-Morning-Worship-at-11-30.jpg
END:VEVENT
BEGIN:VEVENT
DTSTART;TZID=America/Toronto:20261011T093000
DTEND;TZID=America/Toronto:20261011T110000
DTSTAMP:20260422T181334
CREATED:20250826T165838Z
LAST-MODIFIED:20251209T152250Z
UID:11071-1791711000-1791716400@www.newlifecc.ca
SUMMARY:Sunday Morning Worship Service at 9:30am
DESCRIPTION:We would love for you to join us at our Sunday Morning Worship Service. Join at either the 9:30am service or the 11:30am service.
URL:https://www.newlifecc.ca/event/sunday-morning-worship-service-at-930am/2026-10-11/
LOCATION:NewLife Church\, 8111 Weston Road\, Vaughan\, Ontario\, L4L 9T6\, Canada
CATEGORIES:NewLife
ATTACH;FMTTYPE=image/jpeg:https://www.newlifecc.ca/wp-content/uploads/2025/08/Sunday-Morning-Worship-at-9-30.jpg
END:VEVENT
END:VCALENDAR