BEGIN:VCALENDAR
VERSION:2.0
PRODID:-//NewLife Christian Church - ECPv6.15.15//NONSGML v1.0//EN
CALSCALE:GREGORIAN
METHOD:PUBLISH
X-WR-CALNAME:NewLife Christian Church
X-ORIGINAL-URL:https://www.newlifecc.ca
X-WR-CALDESC:Events for NewLife Christian Church
REFRESH-INTERVAL;VALUE=DURATION:PT1H
X-Robots-Tag:noindex
X-PUBLISHED-TTL:PT1H
BEGIN:VTIMEZONE
TZID:America/Toronto
BEGIN:DAYLIGHT
TZOFFSETFROM:-0500
TZOFFSETTO:-0400
TZNAME:EDT
DTSTART:20240310T070000
END:DAYLIGHT
BEGIN:STANDARD
TZOFFSETFROM:-0400
TZOFFSETTO:-0500
TZNAME:EST
DTSTART:20241103T060000
END:STANDARD
BEGIN:DAYLIGHT
TZOFFSETFROM:-0500
TZOFFSETTO:-0400
TZNAME:EDT
DTSTART:20250309T070000
END:DAYLIGHT
BEGIN:STANDARD
TZOFFSETFROM:-0400
TZOFFSETTO:-0500
TZNAME:EST
DTSTART:20251102T060000
END:STANDARD
BEGIN:DAYLIGHT
TZOFFSETFROM:-0500
TZOFFSETTO:-0400
TZNAME:EDT
DTSTART:20260308T070000
END:DAYLIGHT
BEGIN:STANDARD
TZOFFSETFROM:-0400
TZOFFSETTO:-0500
TZNAME:EST
DTSTART:20261101T060000
END:STANDARD
END:VTIMEZONE
BEGIN:VEVENT
DTSTART;TZID=America/Toronto:20251017T170000
DTEND;TZID=America/Toronto:20251017T230000
DTSTAMP:20260420T064353
CREATED:20250827T161124Z
LAST-MODIFIED:20250827T161216Z
UID:11270-1760720400-1760742000@www.newlifecc.ca
SUMMARY:Youth Change Conference
DESCRIPTION:Youth Change Conference   \nDate: October 17th\, 2025 \nDrop off at New Life: 5PM \nPick up at New Life: 11PM \n*Bus will arrive at Church on the Queensway around 6PM and depart the event around 10:30PM \nCost: $35/per person \nCost includes ticket\, bus and pizza dinner  \nRegister Now
URL:https://www.newlifecc.ca/event/youth-change-conference/
LOCATION:Ontario
CATEGORIES:NewLife,Youth
ATTACH;FMTTYPE=image/jpeg:https://www.newlifecc.ca/wp-content/uploads/2025/08/Change-Conf-Event.jpg
END:VEVENT
END:VCALENDAR